BEGIN:VCALENDAR
VERSION:2.0
PRODID:-//Dan Egan - ECPv6.15.20//NONSGML v1.0//EN
CALSCALE:GREGORIAN
METHOD:PUBLISH
X-ORIGINAL-URL:https://dan-egan.com
X-WR-CALDESC:Events for Dan Egan
REFRESH-INTERVAL;VALUE=DURATION:PT1H
X-Robots-Tag:noindex
X-PUBLISHED-TTL:PT1H
BEGIN:VTIMEZONE
TZID:UTC
BEGIN:STANDARD
TZOFFSETFROM:+0000
TZOFFSETTO:+0000
TZNAME:UTC
DTSTART:20250101T000000
END:STANDARD
END:VTIMEZONE
BEGIN:VEVENT
DTSTART;TZID=UTC:20260421T000000
DTEND;TZID=UTC:20260426T235959
DTSTAMP:20260423T152431
CREATED:20250922T182815Z
LAST-MODIFIED:20260202T170209Z
UID:10000033-1776729600-1777247999@dan-egan.com
SUMMARY:Bermuda
DESCRIPTION:
URL:https://dan-egan.com/event/film-premiere-bermuda/
LOCATION:Earl Cameron Theater & Ruth Seaton James Theater\, Bermuda
CATEGORIES:clydebestspremiers
END:VEVENT
BEGIN:VEVENT
DTSTART;TZID=UTC:20260507T000000
DTEND;TZID=UTC:20260508T235959
DTSTAMP:20260423T152431
CREATED:20251218T011955Z
LAST-MODIFIED:20260120T205236Z
UID:10000036-1778112000-1778284799@dan-egan.com
SUMMARY:Tampa Bay\, FL
DESCRIPTION:
URL:https://dan-egan.com/event/tampa-bay-fl/
LOCATION:Palladium Theater\, St. Petersburg\, FL\, United States
CATEGORIES:clydebestspremiers
END:VEVENT
BEGIN:VEVENT
DTSTART;TZID=UTC:20260620T130000
DTEND;TZID=UTC:20260620T193000
DTSTAMP:20260423T152431
CREATED:20260225T030419Z
LAST-MODIFIED:20260225T030521Z
UID:10000040-1781960400-1781983800@dan-egan.com
SUMMARY:Atlanta\, GA
DESCRIPTION:
URL:https://dan-egan.com/event/atlanta-ga/
CATEGORIES:clydebestspremiers
END:VEVENT
END:VCALENDAR